BEGIN:VCALENDAR
VERSION:2.0
METHOD:PUBLISH
X-WR-CALNAME:Waiau Pa School |  February 01 2017- March 01 2017
PRODID:-//strange bird labs//Drupal iCal API//EN
BEGIN:VEVENT
DTSTAMP;VALUE=DATE-TIME:20180125T121656Z
DTSTART;VALUE=DATE-TIME:20170201T005400Z
DTEND;VALUE=DATE-TIME:20020203
UID:http://waiaupa.school.nz/first-day-back-at-school
URL;VALUE=URI:http://waiaupa.school.nz/first-day-back-at-school
SUMMARY:First day back at school
END:VEVENT
BEGIN:VEVENT
DTSTAMP;VALUE=DATE-TIME:20180125T121656Z
DTSTART;VALUE=DATE-TIME:20170202T231800Z
DTEND;VALUE=DATE-TIME:20020203
UID:http://waiaupa.school.nz/rosehill-tech-starts
URL;VALUE=URI:http://waiaupa.school.nz/rosehill-tech-starts
SUMMARY:Rosehill Tech starts
END:VEVENT
BEGIN:VEVENT
DTSTAMP;VALUE=DATE-TIME:20180125T121656Z
DTSTART;VALUE=DATE-TIME:20170205T231800Z
DTEND;VALUE=DATE-TIME:20020203
UID:http://waiaupa.school.nz/waitangi-day-school-closed-3
URL;VALUE=URI:http://waiaupa.school.nz/waitangi-day-school-closed-3
SUMMARY:WAITANGI DAY ~ SCHOOL CLOSED
END:VEVENT
BEGIN:VEVENT
DTSTAMP;VALUE=DATE-TIME:20180125T121656Z
DTSTART;VALUE=DATE-TIME:20170206T232000Z
DTEND;VALUE=DATE-TIME:20020203
UID:http://waiaupa.school.nz/syndicate-information-evening
URL;VALUE=URI:http://waiaupa.school.nz/syndicate-information-evening
SUMMARY:Syndicate Information Evening ~ 6.30pm - 7.15pm
END:VEVENT
BEGIN:VEVENT
DTSTAMP;VALUE=DATE-TIME:20180125T121656Z
DTSTART;VALUE=DATE-TIME:20170217T010000Z
DTEND;VALUE=DATE-TIME:20170217T010000Z
UID:http://waiaupa.school.nz/assembly-2pm-karaka-syndicate-all-welcome
URL;VALUE=URI:http://waiaupa.school.nz/assembly-2pm-karaka-syndicate-all-welcome
SUMMARY:Assembly ~ 2pm Karaka Syndicate - All Welcome
END:VEVENT
BEGIN:VEVENT
DTSTAMP;VALUE=DATE-TIME:20180125T121656Z
DTSTART;VALUE=DATE-TIME:20170220T063000Z
DTEND;VALUE=DATE-TIME:20170220T063000Z
UID:http://waiaupa.school.nz/bot-meeting-all-welcome
URL;VALUE=URI:http://waiaupa.school.nz/bot-meeting-all-welcome
SUMMARY:BOT Meeting ~ All welcome
END:VEVENT
BEGIN:VEVENT
DTSTAMP;VALUE=DATE-TIME:20180125T121656Z
DTSTART;VALUE=DATE-TIME:20170221T005400Z
DTEND;VALUE=DATE-TIME:20020203
UID:http://waiaupa.school.nz/rimu-camp-21st-february-24th-february
URL;VALUE=URI:http://waiaupa.school.nz/rimu-camp-21st-february-24th-february
SUMMARY:Rimu Camp 21st February ~ 24th February
END:VEVENT
BEGIN:VEVENT
DTSTAMP;VALUE=DATE-TIME:20180125T121656Z
DTSTART;VALUE=DATE-TIME:20170222T005500Z
DTEND;VALUE=DATE-TIME:20020203
UID:http://waiaupa.school.nz/rimu-camp-8
URL;VALUE=URI:http://waiaupa.school.nz/rimu-camp-8
SUMMARY:Rimu Camp
END:VEVENT
BEGIN:VEVENT
DTSTAMP;VALUE=DATE-TIME:20180125T121656Z
DTSTART;VALUE=DATE-TIME:20170222T233300Z
DTEND;VALUE=DATE-TIME:20020203
UID:http://waiaupa.school.nz/hpv-talks
URL;VALUE=URI:http://waiaupa.school.nz/hpv-talks
SUMMARY:HPV Talks
END:VEVENT
BEGIN:VEVENT
DTSTAMP;VALUE=DATE-TIME:20180125T121656Z
DTSTART;VALUE=DATE-TIME:20170223T005500Z
DTEND;VALUE=DATE-TIME:20020203
UID:http://waiaupa.school.nz/rimu-camo
URL;VALUE=URI:http://waiaupa.school.nz/rimu-camo
SUMMARY:Rimu Camp
END:VEVENT
BEGIN:VEVENT
DTSTAMP;VALUE=DATE-TIME:20180125T121656Z
DTSTART;VALUE=DATE-TIME:20170224T005600Z
DTEND;VALUE=DATE-TIME:20020203
UID:http://waiaupa.school.nz/rimu-camp-9
URL;VALUE=URI:http://waiaupa.school.nz/rimu-camp-9
SUMMARY:Rimu Camp
END:VEVENT
BEGIN:VEVENT
DTSTAMP;VALUE=DATE-TIME:20180125T121656Z
DTSTART;VALUE=DATE-TIME:20170228T003000Z
DTEND;VALUE=DATE-TIME:20170228T003000Z
UID:http://waiaupa.school.nz/year-7-8-swimming-sports-1
URL;VALUE=URI:http://waiaupa.school.nz/year-7-8-swimming-sports-1
SUMMARY:Year 7 & 8 Swimming Sports
END:VEVENT
END:VCALENDAR
