BEGIN:VCALENDAR
VERSION:2.0
METHOD:PUBLISH
X-WR-CALNAME:Waiau Pa School |  January 24 2018- February 23 2018
PRODID:-//strange bird labs//Drupal iCal API//EN
BEGIN:VEVENT
DTSTAMP;VALUE=DATE-TIME:20180123T151422Z
DTSTART;VALUE=DATE-TIME:20180129T210000Z
DTEND;VALUE=DATE-TIME:20180129T210000Z
UID:http://waiaupa.school.nz/school-uniform-shop-opening-day-2018-click-below
URL;VALUE=URI:http://waiaupa.school.nz/school-uniform-shop-opening-day-2018-click-below
SUMMARY:School Uniform Shop Opening Day 2018 ~ click below
DESCRIPTION:<p>The shop will be open from 10am until 12 noon on Tuesday 30th January</p>
 
END:VEVENT
BEGIN:VEVENT
DTSTAMP;VALUE=DATE-TIME:20180123T151422Z
DTSTART;VALUE=DATE-TIME:20180201T002300Z
DTEND;VALUE=DATE-TIME:20020203
UID:http://waiaupa.school.nz/1st-day-of-school-yahoo
URL;VALUE=URI:http://waiaupa.school.nz/1st-day-of-school-yahoo
SUMMARY:1st day of school ~YAHOO
END:VEVENT
BEGIN:VEVENT
DTSTAMP;VALUE=DATE-TIME:20180123T151422Z
DTSTART;VALUE=DATE-TIME:20180205T114900Z
DTEND;VALUE=DATE-TIME:20020203
UID:http://waiaupa.school.nz/waitangi-day-school-closed-4
URL;VALUE=URI:http://waiaupa.school.nz/waitangi-day-school-closed-4
SUMMARY:Waitangi Day - School closed
END:VEVENT
END:VCALENDAR
